BEGIN:VCALENDAR
VERSION:2.0
PRODID:-//SPIEM - ECPv6.15.20//NONSGML v1.0//EN
CALSCALE:GREGORIAN
METHOD:PUBLISH
X-ORIGINAL-URL:https://spiem.pt
X-WR-CALDESC:Eventos para SPIEM
REFRESH-INTERVAL;VALUE=DURATION:PT1H
X-Robots-Tag:noindex
X-PUBLISHED-TTL:PT1H
BEGIN:VTIMEZONE
TZID:Europe/Lisbon
BEGIN:DAYLIGHT
TZOFFSETFROM:+0000
TZOFFSETTO:+0100
TZNAME:WEST
DTSTART:20230326T010000
END:DAYLIGHT
BEGIN:STANDARD
TZOFFSETFROM:+0100
TZOFFSETTO:+0000
TZNAME:WET
DTSTART:20231029T010000
END:STANDARD
BEGIN:DAYLIGHT
TZOFFSETFROM:+0000
TZOFFSETTO:+0100
TZNAME:WEST
DTSTART:20240331T010000
END:DAYLIGHT
BEGIN:STANDARD
TZOFFSETFROM:+0100
TZOFFSETTO:+0000
TZNAME:WET
DTSTART:20241027T010000
END:STANDARD
BEGIN:DAYLIGHT
TZOFFSETFROM:+0000
TZOFFSETTO:+0100
TZNAME:WEST
DTSTART:20250330T010000
END:DAYLIGHT
BEGIN:STANDARD
TZOFFSETFROM:+0100
TZOFFSETTO:+0000
TZNAME:WET
DTSTART:20251026T010000
END:STANDARD
END:VTIMEZONE
BEGIN:VEVENT
DTSTART;TZID=Europe/Lisbon:20241120T173000
DTEND;TZID=Europe/Lisbon:20241120T190000
DTSTAMP:20260422T154346
CREATED:20240806T092334Z
LAST-MODIFIED:20241120T142432Z
UID:6679-1732123800-1732129200@spiem.pt
SUMMARY:Webinar Atlântico 3 | 2024
DESCRIPTION:Investigar sobre el Currículo de Matemáticas\n\n\n\nQuarta-feira\, 20 de novembro de 2024 \n\n\n\nInvestigador: José Luis Lupiáñez\, Universidad de Granada\, EspañaModeração: Agostinho Iaqchan Ryokiti Homa (pela SBEM) \n\n\n\nHorário:11:30 | México (CMDX)14:30 | Brasil (Brasília)17:30 | Portugal continental18:30 | Espanha \n\n\n\n\nMais informação
URL:https://spiem.pt/evento/webinar-atlantico-3-2024/
LOCATION:Bragança
CATEGORIES:Eventos,Eventos SPIEM
ATTACH;FMTTYPE=image/png:https://spiem.pt/wp-content/uploads/2024/10/banner-webinares-atlanticos-2024.png
END:VEVENT
BEGIN:VEVENT
DTSTART;TZID=Europe/Lisbon:20241122T000000
DTEND;TZID=Europe/Lisbon:20241123T235959
DTSTAMP:20260422T154346
CREATED:20240806T093757Z
LAST-MODIFIED:20240806T094009Z
UID:6688-1732233600-1732406399@spiem.pt
SUMMARY:EIEM 2024
DESCRIPTION:EIEM 2024\nMatemática para todos no século XXI\n  \nEscola Secundária do Cerco do Porto
URL:https://spiem.pt/evento/eiem-2024/
LOCATION:Escola Secundária do Cerco do Porto\, Rua Nossa Senhora do Calvário\, Porto\, 4300-357\, Portugal
CATEGORIES:Eventos SPIEM
ATTACH;FMTTYPE=image/svg+xml:https://spiem.pt/wp-content/uploads/2022/06/eiem-2022-thumbnail.svg
ORGANIZER;CN="SPIEM":MAILTO:eiem2021@spiem.pt
END:VEVENT
END:VCALENDAR