BEGIN:VCALENDAR
VERSION:2.0
PRODID:-//SPIEM - ECPv6.15.20//NONSGML v1.0//EN
CALSCALE:GREGORIAN
METHOD:PUBLISH
X-WR-CALNAME:SPIEM
X-ORIGINAL-URL:https://spiem.pt
X-WR-CALDESC:Eventos para SPIEM
REFRESH-INTERVAL;VALUE=DURATION:PT1H
X-Robots-Tag:noindex
X-PUBLISHED-TTL:PT1H
BEGIN:VTIMEZONE
TZID:Europe/Lisbon
BEGIN:DAYLIGHT
TZOFFSETFROM:+0000
TZOFFSETTO:+0100
TZNAME:WEST
DTSTART:20230326T010000
END:DAYLIGHT
BEGIN:STANDARD
TZOFFSETFROM:+0100
TZOFFSETTO:+0000
TZNAME:WET
DTSTART:20231029T010000
END:STANDARD
BEGIN:DAYLIGHT
TZOFFSETFROM:+0000
TZOFFSETTO:+0100
TZNAME:WEST
DTSTART:20240331T010000
END:DAYLIGHT
BEGIN:STANDARD
TZOFFSETFROM:+0100
TZOFFSETTO:+0000
TZNAME:WET
DTSTART:20241027T010000
END:STANDARD
BEGIN:DAYLIGHT
TZOFFSETFROM:+0000
TZOFFSETTO:+0100
TZNAME:WEST
DTSTART:20250330T010000
END:DAYLIGHT
BEGIN:STANDARD
TZOFFSETFROM:+0100
TZOFFSETTO:+0000
TZNAME:WET
DTSTART:20251026T010000
END:STANDARD
END:VTIMEZONE
BEGIN:VEVENT
DTSTART;TZID=Europe/Lisbon:20240423T080000
DTEND;TZID=Europe/Lisbon:20240426T170000
DTSTAMP:20260423T000217
CREATED:20230908T074512Z
LAST-MODIFIED:20230908T074635Z
UID:5623-1713859200-1714150800@spiem.pt
SUMMARY:The 26th ICMI study: advances in geometry education
DESCRIPTION:International Commission on Mathematical Instruction (ICMI) lançou o 26º ICMI Study\, com a temática “Advances in Geometry Education”. A primeira atividade dos Estudos ICMI é uma conferência\, com apresentação de propostas de participação (texto de 8 páginas) até 6 de outubro de 2023\, seguida da publicação de um volume ICMI Studies Series. \n\n\n\nInformação mais completa sobre o 26º ICMI Study pode ser consultada no Documento de Discussão (ICMI Study 26 Discussion Document v2 (mathunion.org)). \n\n\n\nA informação completa sobre a conferencia pode ser consultadas na sua página web (https://icmistudy26.sciencesconf.org) e na página web de ICMI (https://www.mathunion.org/icmi/activities/icmi-studies/ongoing-icmi-studies). \n\n\n\nPara quaisquer informações adicionais ou questões podem contactar os coordenadores do 26º ICMI Study\, Angel Gutierrez (angel.gutierrez@uv.es) e Tom Lowrie (thomas.lowrie@canberra.edu.au).
URL:https://spiem.pt/evento/the-26th-icmi-study-advances-in-geometry-education/
LOCATION:University of Reims Champagne Ardenne\, 2 Av. Robert Schuman\, Reims\, 51100\, France
CATEGORIES:Eventos
ATTACH;FMTTYPE=image/png:https://spiem.pt/wp-content/uploads/2023/09/icmi26th.png
ORGANIZER;CN="ICMI":MAILTO:icmi.info@mathunion.org
END:VEVENT
END:VCALENDAR