BEGIN:VCALENDAR
VERSION:2.0
PRODID:-//SPIEM - ECPv6.15.20//NONSGML v1.0//EN
CALSCALE:GREGORIAN
METHOD:PUBLISH
X-WR-CALNAME:SPIEM
X-ORIGINAL-URL:https://spiem.pt
X-WR-CALDESC:Eventos para SPIEM
REFRESH-INTERVAL;VALUE=DURATION:PT1H
X-Robots-Tag:noindex
X-PUBLISHED-TTL:PT1H
BEGIN:VTIMEZONE
TZID:Europe/Lisbon
BEGIN:DAYLIGHT
TZOFFSETFROM:+0000
TZOFFSETTO:+0100
TZNAME:WEST
DTSTART:20220327T010000
END:DAYLIGHT
BEGIN:STANDARD
TZOFFSETFROM:+0100
TZOFFSETTO:+0000
TZNAME:WET
DTSTART:20221030T010000
END:STANDARD
BEGIN:DAYLIGHT
TZOFFSETFROM:+0000
TZOFFSETTO:+0100
TZNAME:WEST
DTSTART:20230326T010000
END:DAYLIGHT
BEGIN:STANDARD
TZOFFSETFROM:+0100
TZOFFSETTO:+0000
TZNAME:WET
DTSTART:20231029T010000
END:STANDARD
BEGIN:DAYLIGHT
TZOFFSETFROM:+0000
TZOFFSETTO:+0100
TZNAME:WEST
DTSTART:20240331T010000
END:DAYLIGHT
BEGIN:STANDARD
TZOFFSETFROM:+0100
TZOFFSETTO:+0000
TZNAME:WET
DTSTART:20241027T010000
END:STANDARD
END:VTIMEZONE
BEGIN:VEVENT
DTSTART;TZID=Europe/Lisbon:20230705T130000
DTEND;TZID=Europe/Lisbon:20230706T183000
DTSTAMP:20260423T093337
CREATED:20230527T163631Z
LAST-MODIFIED:20230527T164039Z
UID:5339-1688562000-1688668200@spiem.pt
SUMMARY:XXXIII SIEM
DESCRIPTION:Este ano\, o XXXIII SIEM decorrerá nos dias 5 e 6 de julho\, em Barcelos. O programa incluirá conferências plenárias\, conferências com discussão\, um painel e o Espaço GTI. Para mais informações consultar: \n\n\n\n\nSIEM2023 | PROFMAT2023 Barcelos • Associação de Professores de Matemática (apm.pt)
URL:https://spiem.pt/evento/xxxiii-siem/
LOCATION:Barcelos\, Barcelos\, Portugal
CATEGORIES:Eventos
ATTACH;FMTTYPE=image/png:https://spiem.pt/wp-content/uploads/2023/05/xxxiiisiem-thumb.png
ORGANIZER;CN="SIEM":MAILTO:siem2023@apm.pt
END:VEVENT
BEGIN:VEVENT
DTSTART;TZID=Europe/Lisbon:20230710T070000
DTEND;TZID=Europe/Lisbon:20230714T160000
DTSTAMP:20260423T093337
CREATED:20230228T210428Z
LAST-MODIFIED:20230729T141404Z
UID:5184-1688972400-1689350400@spiem.pt
SUMMARY:CERME 13
DESCRIPTION:CERME (ERME Conferences) is organised by ERME whose chief aims are to promote communication\, cooperation and collaboration (the famous three Cs of CERME) in research in mathematics education in Europe.
URL:https://spiem.pt/evento/cerme-13/
LOCATION:Bragança
CATEGORIES:Eventos
ATTACH;FMTTYPE=image/png:https://spiem.pt/wp-content/uploads/2022/08/cerme13.png
END:VEVENT
BEGIN:VEVENT
DTSTART;TZID=Europe/Lisbon:20230716T080000
DTEND;TZID=Europe/Lisbon:20230721T170000
DTSTAMP:20260423T093337
CREATED:20230228T210917Z
LAST-MODIFIED:20230729T141355Z
UID:5188-1689494400-1689958800@spiem.pt
SUMMARY:PME-46
DESCRIPTION:46th Conferenceof the International Groupfor the Psychologyof Mathematics Education \n\n\n\nHaifa\, Israel16 a 21 de julho de 2023 \n\n\n\nTema da conferência: “Mathematics education for global sustainability”. \n\n\n\nhttps://pme46.edu.haifa.ac.il
URL:https://spiem.pt/evento/pme-46/
LOCATION:Bragança
CATEGORIES:Eventos
ATTACH;FMTTYPE=image/png:https://spiem.pt/wp-content/uploads/2023/02/PME-46.png
END:VEVENT
BEGIN:VEVENT
DTSTART;TZID=Europe/Lisbon:20230725T090000
DTEND;TZID=Europe/Lisbon:20230726T153000
DTSTAMP:20260423T093337
CREATED:20230526T085432Z
LAST-MODIFIED:20230729T141348Z
UID:5290-1690275600-1690385400@spiem.pt
SUMMARY:Escola de Verão 2023 – SEIEM e SPIEM
DESCRIPTION:Escola de Verão 2023 – SEIEM e SPIEM\n\n\n\n\n\n\n\nA Escola de Verão é uma iniciativa conjunta da Sociedade Espanhola de Investigação em Educação Matemática (SEIEM) e da Sociedade Portuguesa de Investigação em Educação Matemática (SPIEM)\, cujo principal objetivo é contribuir para a formação dos jovens investigadores em educação matemática. \n\n\n\nA Escola de Verão 2023 decorrerá nos dias 25 e 26 de julho de 2023\, na Escola Superior de Educação de Bragança\, Portugal. \n\n\n\nOs jovens investigadores interessados devem apresentar a sua candidatura até dia 10 de junho de 2023\, enviando a ficha de inscrição preenchida para escoladeverao2023@spiem.pt. \n\n\n\nPara mais informação sobre a Escola de Verão de 2023 consultar o Anúncio e o Programa. \n\n\n\n\nAnúncio\n\n\n\nPrograma\n\n\n\nFicha de Candidatura
URL:https://spiem.pt/evento/escola-de-verao-2023-seiem-e-spiem/
LOCATION:Escola Superior de Educação do Instituto Politécnico de Bragança\, Alameda de Santa Apolónia\, Bragança\, Bragança\, 5301-856\, Portugal
CATEGORIES:Eventos
ATTACH;FMTTYPE=image/png:https://spiem.pt/wp-content/uploads/2023/05/escola-verao-2023.png
END:VEVENT
END:VCALENDAR