BEGIN:VCALENDAR
VERSION:2.0
PRODID:-//SPIEM - ECPv6.15.20//NONSGML v1.0//EN
CALSCALE:GREGORIAN
METHOD:PUBLISH
X-ORIGINAL-URL:https://spiem.pt
X-WR-CALDESC:Eventos para SPIEM
REFRESH-INTERVAL;VALUE=DURATION:PT1H
X-Robots-Tag:noindex
X-PUBLISHED-TTL:PT1H
BEGIN:VTIMEZONE
TZID:Europe/Lisbon
BEGIN:DAYLIGHT
TZOFFSETFROM:+0000
TZOFFSETTO:+0100
TZNAME:WEST
DTSTART:20220327T010000
END:DAYLIGHT
BEGIN:STANDARD
TZOFFSETFROM:+0100
TZOFFSETTO:+0000
TZNAME:WET
DTSTART:20221030T010000
END:STANDARD
BEGIN:DAYLIGHT
TZOFFSETFROM:+0000
TZOFFSETTO:+0100
TZNAME:WEST
DTSTART:20230326T010000
END:DAYLIGHT
BEGIN:STANDARD
TZOFFSETFROM:+0100
TZOFFSETTO:+0000
TZNAME:WET
DTSTART:20231029T010000
END:STANDARD
BEGIN:DAYLIGHT
TZOFFSETFROM:+0000
TZOFFSETTO:+0100
TZNAME:WEST
DTSTART:20240331T010000
END:DAYLIGHT
BEGIN:STANDARD
TZOFFSETFROM:+0100
TZOFFSETTO:+0000
TZNAME:WET
DTSTART:20241027T010000
END:STANDARD
END:VTIMEZONE
BEGIN:VEVENT
DTSTART;TZID=Europe/Lisbon:20230515T080000
DTEND;TZID=Europe/Lisbon:20230515T170000
DTSTAMP:20260423T120640
CREATED:20230228T210651Z
LAST-MODIFIED:20230228T210655Z
UID:5186-1684137600-1684170000@spiem.pt
SUMMARY:Chamada de artigos Revista Quadrante
DESCRIPTION:Revista QuadranteRevista de Investigação em Educação Matemática \n\n\n\nChamada de artigos: número temático 2023 \n\n\n\nAfetos na Educação Matemática \n\n\n\nEditores convidados: \n\n\n\n\nNélia Amado\, Universidade do Algarve\, Portugal\n\n\n\nPietro Di Martino\, Universidade de Pisa\, Itália\n\n\n\n\nhttps://quadrante.apm.pt/announcement \n\n\n\nData limite de submissão: 15 de maio\, 2023
URL:https://spiem.pt/evento/chamada-de-artigos-revista-quadrante/
LOCATION:Bragança
ATTACH;FMTTYPE=image/png:https://spiem.pt/wp-content/uploads/2023/02/Q.png
END:VEVENT
END:VCALENDAR