BEGIN:VCALENDAR
VERSION:2.0
PRODID:-//SPIEM - ECPv6.15.20//NONSGML v1.0//EN
CALSCALE:GREGORIAN
METHOD:PUBLISH
X-WR-CALNAME:SPIEM
X-ORIGINAL-URL:https://spiem.pt
X-WR-CALDESC:Eventos para SPIEM
REFRESH-INTERVAL;VALUE=DURATION:PT1H
X-Robots-Tag:noindex
X-PUBLISHED-TTL:PT1H
BEGIN:VTIMEZONE
TZID:Europe/Lisbon
BEGIN:DAYLIGHT
TZOFFSETFROM:+0000
TZOFFSETTO:+0100
TZNAME:WEST
DTSTART:20210328T010000
END:DAYLIGHT
BEGIN:STANDARD
TZOFFSETFROM:+0100
TZOFFSETTO:+0000
TZNAME:WET
DTSTART:20211031T010000
END:STANDARD
BEGIN:DAYLIGHT
TZOFFSETFROM:+0000
TZOFFSETTO:+0100
TZNAME:WEST
DTSTART:20220327T010000
END:DAYLIGHT
BEGIN:STANDARD
TZOFFSETFROM:+0100
TZOFFSETTO:+0000
TZNAME:WET
DTSTART:20221030T010000
END:STANDARD
BEGIN:DAYLIGHT
TZOFFSETFROM:+0000
TZOFFSETTO:+0100
TZNAME:WEST
DTSTART:20230326T010000
END:DAYLIGHT
BEGIN:STANDARD
TZOFFSETFROM:+0100
TZOFFSETTO:+0000
TZNAME:WET
DTSTART:20231029T010000
END:STANDARD
END:VTIMEZONE
BEGIN:VEVENT
DTSTART;VALUE=DATE:20221119
DTEND;VALUE=DATE:20221121
DTSTAMP:20260423T190253
CREATED:20220519T100805Z
LAST-MODIFIED:20220620T224044Z
UID:2769-1668816000-1668988799@spiem.pt
SUMMARY:EIEM 2022
DESCRIPTION:EIEM 2022\nTema “Desenvolvimento Curricular” \nOrganização/Local: FCT NOVA (Caparica)
URL:https://spiem.pt/evento/eiem-2022/
LOCATION:FCT UNL\, Campus da Caparica\, Caparica\, Almada\, 2829-516 Caparica\, Portugal
CATEGORIES:Eventos SPIEM
ATTACH;FMTTYPE=image/svg+xml:https://spiem.pt/wp-content/uploads/2022/06/eiem-2022-thumbnail.svg
ORGANIZER;CN="SPIEM":MAILTO:eiem2021@spiem.pt
END:VEVENT
BEGIN:VEVENT
DTSTART;TZID=Europe/Lisbon:20221130T170000
DTEND;TZID=Europe/Lisbon:20221130T190000
DTSTAMP:20260423T190253
CREATED:20220918T222543Z
LAST-MODIFIED:20220918T222912Z
UID:4545-1669827600-1669834800@spiem.pt
SUMMARY:Webinar Atlântico 3
DESCRIPTION:Webinar 3 \n\n\n\nResolução e Proposição de Problemas: na associação com as TICs\, pesquisas e práticas em Educação Matemática\n\n\n\nInvestigadora: Norma Suely Gomes Allevato\, Universidade Cruzeiro do Sul \n\n\n\nver programa completo aqui
URL:https://spiem.pt/evento/webinar-atlantico-3/
LOCATION:Bragança
END:VEVENT
END:VCALENDAR