BEGIN:VCALENDAR
VERSION:2.0
PRODID:-//SPIEM - ECPv6.15.20//NONSGML v1.0//EN
CALSCALE:GREGORIAN
METHOD:PUBLISH
X-WR-CALNAME:SPIEM
X-ORIGINAL-URL:https://spiem.pt
X-WR-CALDESC:Eventos para SPIEM
REFRESH-INTERVAL;VALUE=DURATION:PT1H
X-Robots-Tag:noindex
X-PUBLISHED-TTL:PT1H
BEGIN:VTIMEZONE
TZID:Europe/Lisbon
BEGIN:DAYLIGHT
TZOFFSETFROM:+0000
TZOFFSETTO:+0100
TZNAME:WEST
DTSTART:20190331T010000
END:DAYLIGHT
BEGIN:STANDARD
TZOFFSETFROM:+0100
TZOFFSETTO:+0000
TZNAME:WET
DTSTART:20191027T010000
END:STANDARD
BEGIN:DAYLIGHT
TZOFFSETFROM:+0000
TZOFFSETTO:+0100
TZNAME:WEST
DTSTART:20200329T010000
END:DAYLIGHT
BEGIN:STANDARD
TZOFFSETFROM:+0100
TZOFFSETTO:+0000
TZNAME:WET
DTSTART:20201025T010000
END:STANDARD
BEGIN:DAYLIGHT
TZOFFSETFROM:+0000
TZOFFSETTO:+0100
TZNAME:WEST
DTSTART:20210328T010000
END:DAYLIGHT
BEGIN:STANDARD
TZOFFSETFROM:+0100
TZOFFSETTO:+0000
TZNAME:WET
DTSTART:20211031T010000
END:STANDARD
BEGIN:DAYLIGHT
TZOFFSETFROM:+0000
TZOFFSETTO:+0100
TZNAME:WEST
DTSTART:20220327T010000
END:DAYLIGHT
BEGIN:STANDARD
TZOFFSETFROM:+0100
TZOFFSETTO:+0000
TZNAME:WET
DTSTART:20221030T010000
END:STANDARD
BEGIN:DAYLIGHT
TZOFFSETFROM:+0000
TZOFFSETTO:+0100
TZNAME:WEST
DTSTART:20230326T010000
END:DAYLIGHT
BEGIN:STANDARD
TZOFFSETFROM:+0100
TZOFFSETTO:+0000
TZNAME:WET
DTSTART:20231029T010000
END:STANDARD
BEGIN:DAYLIGHT
TZOFFSETFROM:+0000
TZOFFSETTO:+0100
TZNAME:WEST
DTSTART:20240331T010000
END:DAYLIGHT
BEGIN:STANDARD
TZOFFSETFROM:+0100
TZOFFSETTO:+0000
TZNAME:WET
DTSTART:20241027T010000
END:STANDARD
BEGIN:DAYLIGHT
TZOFFSETFROM:+0000
TZOFFSETTO:+0100
TZNAME:WEST
DTSTART:20250330T010000
END:DAYLIGHT
BEGIN:STANDARD
TZOFFSETFROM:+0100
TZOFFSETTO:+0000
TZNAME:WET
DTSTART:20251026T010000
END:STANDARD
END:VTIMEZONE
BEGIN:VEVENT
DTSTART;TZID=Europe/Lisbon:20241120T173000
DTEND;TZID=Europe/Lisbon:20241120T190000
DTSTAMP:20260421T173319
CREATED:20240806T092334Z
LAST-MODIFIED:20241120T142432Z
UID:6679-1732123800-1732129200@spiem.pt
SUMMARY:Webinar Atlântico 3 | 2024
DESCRIPTION:Investigar sobre el Currículo de Matemáticas\n\n\n\nQuarta-feira\, 20 de novembro de 2024 \n\n\n\nInvestigador: José Luis Lupiáñez\, Universidad de Granada\, EspañaModeração: Agostinho Iaqchan Ryokiti Homa (pela SBEM) \n\n\n\nHorário:11:30 | México (CMDX)14:30 | Brasil (Brasília)17:30 | Portugal continental18:30 | Espanha \n\n\n\n\nMais informação
URL:https://spiem.pt/evento/webinar-atlantico-3-2024/
CATEGORIES:Eventos,Eventos SPIEM
ATTACH;FMTTYPE=image/png:https://spiem.pt/wp-content/uploads/2024/10/banner-webinares-atlanticos-2024.png
END:VEVENT
BEGIN:VEVENT
DTSTART;TZID=Europe/Lisbon:20241023T173000
DTEND;TZID=Europe/Lisbon:20241023T183000
DTSTAMP:20260421T173319
CREATED:20240806T091820Z
LAST-MODIFIED:20241022T163657Z
UID:6674-1729704600-1729708200@spiem.pt
SUMMARY:Webinar Atlântico 2 | 2024
DESCRIPTION:Evolução do currículo de matemática em Portugal: o que diz a investigação?\n\n\n\nQuarta-feira\, 23 de outubro de 2024 \n\n\n\nInvestigador: Ana Paula Canavarro\, Universidade de Évora\, Portugal.Moderação: Sergio Martínez Juste (pela SEIEM) \n\n\n\nHorário:10:30 | México (CMDX)13:30 | Brasil (Brasília)17:30 | Portugal continental18:30 | Espanha \n\n\n\n\nMais informação
URL:https://spiem.pt/evento/webinar-atlantico-2-2024/
CATEGORIES:Eventos,Eventos SPIEM
ATTACH;FMTTYPE=image/png:https://spiem.pt/wp-content/uploads/2024/10/banner-webinares-atlanticos-2024.png
END:VEVENT
BEGIN:VEVENT
DTSTART;TZID=Europe/Lisbon:20240925T173000
DTEND;TZID=Europe/Lisbon:20240925T190000
DTSTAMP:20260421T173319
CREATED:20240806T091518Z
LAST-MODIFIED:20240925T150720Z
UID:6672-1727285400-1727290800@spiem.pt
SUMMARY:Webinar Atlântico 1 | 2024
DESCRIPTION:Webinar 1 \n\n\n\n\n\n\n\n\n\n\n\nBase Nacional Comum Curricular em Matemática: uma leitura ambivalente\n\n\n\nQuarta-feira\, 25 de setembro de 2024 \n\n\n\nInvestigador: Ruy César Pietropaolo\, Universidade Bandeirante Anhanguera\, BrasilModeração: Rafael Enrique Gutiérrez-Araujo (pela SBEM) \n\n\n\nHorário:10:30 | México (CMDX)13:30 | Brasil (Brasília)17:30 | Portugal continental18:30 | Espanha \n\n\n\n\nMais informação
URL:https://spiem.pt/evento/webinar-atlantico-1-2024/
CATEGORIES:Eventos,Eventos SPIEM
ATTACH;FMTTYPE=image/jpeg:https://spiem.pt/wp-content/uploads/2024/09/webinar-1.jpg
END:VEVENT
BEGIN:VEVENT
DTSTART;TZID=Europe/Lisbon:20240904T080000
DTEND;TZID=Europe/Lisbon:20240906T170000
DTSTAMP:20260421T173319
CREATED:20240205T083909Z
LAST-MODIFIED:20240205T084851Z
UID:6356-1725436800-1725642000@spiem.pt
SUMMARY:XXVII Simposio SEIEM
DESCRIPTION:Mais informação: \n\n\n\n15 de março de 2024:Limite para o envio de propostas de comunicações. \n\n\n\n15 de maio de 2024: Limite para o envio de propostas de comunicações de pósteres. \n\n\n\n\n\n\n\n\n\n\n\n\n\n\n\nLocal
URL:https://spiem.pt/evento/xxvii-simposio-seiem/
LOCATION:Facultad de Ciencias de la Educación y Psicología – Universidad de Córdoba\, Avda. San Alberto Magno s/n\, Córdoba\, Córdoba\, 14071\, Spain
CATEGORIES:Eventos
END:VEVENT
BEGIN:VEVENT
DTSTART;TZID=Europe/Lisbon:20240717T080000
DTEND;TZID=Europe/Lisbon:20240721T170000
DTSTAMP:20260421T173319
CREATED:20240103T092816Z
LAST-MODIFIED:20240103T093552Z
UID:6283-1721203200-1721581200@spiem.pt
SUMMARY:Psychology of Mathematics Education Conference (PME 47)
DESCRIPTION:The theme of the conference is “Rethinking mathematics education together”.\n\n\n\n\n\n\n\n\n\nPME 47 Conference\n\n\n\n\n\nThis theme has been chosen to emphasize mathematics education research as a shifting field of knowledge which is developed as a collective body of research. The theme also has relevance both to the local Pacific/Oceania context as well as broader international contexts with ongoing debates related to mathematics education and research\, shifts in both curriculum and pedagogical practices\, and a focus on developing equitable educational systems. \n\n\n\n\n\n\n\n\n\nCONFERENCE ORGANISERS\n\n\n\n\n\n\n\n\n\nVENUE
URL:https://spiem.pt/evento/psychology-of-mathematics-education-conference-pme-47/
LOCATION:Massey Auckland campus in Albany\, East Precinct\, Quadrangle Building A\, level 2\, Estates Service Desk (Gate 1)\, Albany\, Albany Expressway\, 0632\, New Zealand
CATEGORIES:Eventos
ATTACH;FMTTYPE=image/png:https://spiem.pt/wp-content/uploads/2024/01/conferencePME2024.png
END:VEVENT
BEGIN:VEVENT
DTSTART;TZID=Europe/Lisbon:20240707T080000
DTEND;TZID=Europe/Lisbon:20240714T170000
DTSTAMP:20260421T173319
CREATED:20230527T170456Z
LAST-MODIFIED:20230527T170657Z
UID:5357-1720339200-1720976400@spiem.pt
SUMMARY:ICME-15
DESCRIPTION:O 15th International Congress on Mathematics Education (ICME-15) decorrerá entre 7 e 14 de julho de 2024 em Sydney\, Austrália. \n\n\n\n\n\n\n\nOs Congressos do ICME são realizados sob os auspícios da Commission on Mathematical Instruction (ICMI). Dedicada ao desenvolvimento da educação matemática a todos os níveis\, a ICMI é uma comissão da International Mathematical Union (IMU)\, uma organização científica internacional não governamental e sem fins lucrativos cujo objectivo é promover a cooperação internacional no domínio da matemática.
URL:https://spiem.pt/evento/icme-15/
LOCATION:International Convention Centre\, 14 Darling Drive\, Sydney\, Gadigal Country\, NSW 2000\, Australia
CATEGORIES:Eventos
ATTACH;FMTTYPE=image/png:https://spiem.pt/wp-content/uploads/2023/05/icme15-thumb.png
END:VEVENT
BEGIN:VEVENT
DTSTART;TZID=Europe/Lisbon:20240423T080000
DTEND;TZID=Europe/Lisbon:20240426T170000
DTSTAMP:20260421T173319
CREATED:20230908T074512Z
LAST-MODIFIED:20230908T074635Z
UID:5623-1713859200-1714150800@spiem.pt
SUMMARY:The 26th ICMI study: advances in geometry education
DESCRIPTION:International Commission on Mathematical Instruction (ICMI) lançou o 26º ICMI Study\, com a temática “Advances in Geometry Education”. A primeira atividade dos Estudos ICMI é uma conferência\, com apresentação de propostas de participação (texto de 8 páginas) até 6 de outubro de 2023\, seguida da publicação de um volume ICMI Studies Series. \n\n\n\nInformação mais completa sobre o 26º ICMI Study pode ser consultada no Documento de Discussão (ICMI Study 26 Discussion Document v2 (mathunion.org)). \n\n\n\nA informação completa sobre a conferencia pode ser consultadas na sua página web (https://icmistudy26.sciencesconf.org) e na página web de ICMI (https://www.mathunion.org/icmi/activities/icmi-studies/ongoing-icmi-studies). \n\n\n\nPara quaisquer informações adicionais ou questões podem contactar os coordenadores do 26º ICMI Study\, Angel Gutierrez (angel.gutierrez@uv.es) e Tom Lowrie (thomas.lowrie@canberra.edu.au).
URL:https://spiem.pt/evento/the-26th-icmi-study-advances-in-geometry-education/
LOCATION:University of Reims Champagne Ardenne\, 2 Av. Robert Schuman\, Reims\, 51100\, France
CATEGORIES:Eventos
ATTACH;FMTTYPE=image/png:https://spiem.pt/wp-content/uploads/2023/09/icmi26th.png
ORGANIZER;CN="ICMI":MAILTO:icmi.info@mathunion.org
END:VEVENT
BEGIN:VEVENT
DTSTART;TZID=Europe/Lisbon:20231129T170000
DTEND;TZID=Europe/Lisbon:20231129T183000
DTSTAMP:20260421T173319
CREATED:20231124T082718Z
LAST-MODIFIED:20231124T083017Z
UID:5611-1701277200-1701282600@spiem.pt
SUMMARY:Webinar Atlântico 3
DESCRIPTION:A investigação matemática num grupo de trabalho colaborativo\n\n\n\nInvestigadora: Adair Mendes Nacarato\, Universidade São Francisco – USF – Itatiba/SP\, BrasilModeração: José M. Marbán (pela SEIEM) \n\n\n\nHorário: 14:00 hora do Brasil (Brasília); 17:00 hora de Portugal continental; 18:00 hora de Espanha. \n\n\n\nVer mais informação
URL:https://spiem.pt/evento/webinar-atlantico-2023-3/
CATEGORIES:Eventos,Eventos SPIEM
ATTACH;FMTTYPE=image/png:https://spiem.pt/wp-content/uploads/2023/08/webinares-atlanticos-2023.png
END:VEVENT
BEGIN:VEVENT
DTSTART;TZID=Europe/Lisbon:20231002T000000
DTEND;TZID=Europe/Lisbon:20231004T235959
DTSTAMP:20260421T173319
CREATED:20230704T221935Z
LAST-MODIFIED:20230729T141438Z
UID:5420-1696204800-1696463999@spiem.pt
SUMMARY:ICMET 2023
DESCRIPTION:1st International Conference on Math Education and Technology 2023\n\n\n\n\n\n\n\nA 1st International Conference on Math Education and Technology 2023 (ICMET 2023)\, organizado pelo Department of Education and Psychology and the Department of Mathematics of the University of Aveiro\, Portugal\, decorrerá de 2 a 4 de Outubro de 2023.  \n\n\n\nResumo de Workshop\, contributed talks e digital posters – data limite de envio 30 de Junho de 2023 \n\n\n\n\nhttps://icmet.web.ua.pt/
URL:https://spiem.pt/evento/1st-international-conference-on-math-education-and-technology-2023-icmet-2023/
LOCATION:Department of Education and Psychology / Department of Mathematics\, University of Aveiro\, Campus Universitário de Santiago\, Aveiro\, Aveiro\, 3810-193\, Portugal
CATEGORIES:Eventos
ATTACH;FMTTYPE=image/jpeg:https://spiem.pt/wp-content/uploads/2023/07/icomeat-aveiro-2023.jpg
ORGANIZER;CN="ICMET International Conference on Math Education and Technology":MAILTO:dep-icmet@ua.pt
END:VEVENT
BEGIN:VEVENT
DTSTART;TZID=Europe/Lisbon:20231025T173000
DTEND;TZID=Europe/Lisbon:20231025T183000
DTSTAMP:20260421T173319
CREATED:20230802T130313Z
LAST-MODIFIED:20230908T074929Z
UID:5597-1698255000-1698258600@spiem.pt
SUMMARY:Webinar Atlântico 2
DESCRIPTION:La ingeniería didáctica como metodología de investigación y de diseño\n\n\n\nInvestigadora: Berta Barquero\, Universitat de Barcelona\, EspañaModeração: Hélia Oliveira (pela SPIEM) \n\n\n\nHorário: 13:30 hora do Brasil (Brasília); 17:30 hora de Portugal continental; 18:30 hora de Espanha. \n\n\n\n\nVer mais informação
URL:https://spiem.pt/evento/webinar-atlantico-2023-2/
CATEGORIES:Eventos
ATTACH;FMTTYPE=image/png:https://spiem.pt/wp-content/uploads/2023/08/webinares-atlanticos-2023.png
END:VEVENT
BEGIN:VEVENT
DTSTART;TZID=Europe/Lisbon:20230927T173000
DTEND;TZID=Europe/Lisbon:20230927T183000
DTSTAMP:20260421T173319
CREATED:20230802T130137Z
LAST-MODIFIED:20230908T075330Z
UID:5595-1695835800-1695839400@spiem.pt
SUMMARY:Webinar Atlântico 1
DESCRIPTION:Estudos de aula como processo de desenvolvimento profissional de professores de Matemática\n\n\n\nInvestigador: João Pedro da Ponte\, Instituto de Educação da Universidade de Lisboa\, PortugalModeração: Gilberto Januário (pela SBEM) \n\n\n\nHorário: 13:30 hora do Brasil (Brasília); 17:30 hora de Portugal continental; 18:30 hora de Espanha. \n\n\n\n\nVer mais informação
URL:https://spiem.pt/evento/webinar-atlantico-2023-1/
CATEGORIES:Eventos
ATTACH;FMTTYPE=image/png:https://spiem.pt/wp-content/uploads/2023/08/webinares-atlanticos-2023.png
END:VEVENT
BEGIN:VEVENT
DTSTART;TZID=Europe/Lisbon:20230906T090000
DTEND;TZID=Europe/Lisbon:20230908T173000
DTSTAMP:20260421T173319
CREATED:20230729T140140Z
LAST-MODIFIED:20230729T140510Z
UID:5516-1693990800-1694194200@spiem.pt
SUMMARY:XXVI Simposio de la SEIEM
DESCRIPTION:Universidad de La RiojaLogroño
URL:https://spiem.pt/evento/xxvi-simposio-de-la-seiem/
LOCATION:Universidad de La Rioja\, Avenida de La Paz 93-103\, Logroño\, La Rioja\, 26006\, Spain
CATEGORIES:Eventos
ATTACH;FMTTYPE=image/png:https://spiem.pt/wp-content/uploads/2023/07/simposio-seiem-banner.png
END:VEVENT
BEGIN:VEVENT
DTSTART;TZID=Europe/Lisbon:20230725T090000
DTEND;TZID=Europe/Lisbon:20230726T153000
DTSTAMP:20260421T173319
CREATED:20230526T085432Z
LAST-MODIFIED:20230729T141348Z
UID:5290-1690275600-1690385400@spiem.pt
SUMMARY:Escola de Verão 2023 – SEIEM e SPIEM
DESCRIPTION:Escola de Verão 2023 – SEIEM e SPIEM\n\n\n\n\n\n\n\nA Escola de Verão é uma iniciativa conjunta da Sociedade Espanhola de Investigação em Educação Matemática (SEIEM) e da Sociedade Portuguesa de Investigação em Educação Matemática (SPIEM)\, cujo principal objetivo é contribuir para a formação dos jovens investigadores em educação matemática. \n\n\n\nA Escola de Verão 2023 decorrerá nos dias 25 e 26 de julho de 2023\, na Escola Superior de Educação de Bragança\, Portugal. \n\n\n\nOs jovens investigadores interessados devem apresentar a sua candidatura até dia 10 de junho de 2023\, enviando a ficha de inscrição preenchida para escoladeverao2023@spiem.pt. \n\n\n\nPara mais informação sobre a Escola de Verão de 2023 consultar o Anúncio e o Programa. \n\n\n\n\nAnúncio\n\n\n\nPrograma\n\n\n\nFicha de Candidatura
URL:https://spiem.pt/evento/escola-de-verao-2023-seiem-e-spiem/
LOCATION:Escola Superior de Educação do Instituto Politécnico de Bragança\, Alameda de Santa Apolónia\, Bragança\, Bragança\, 5301-856\, Portugal
CATEGORIES:Eventos
ATTACH;FMTTYPE=image/png:https://spiem.pt/wp-content/uploads/2023/05/escola-verao-2023.png
END:VEVENT
BEGIN:VEVENT
DTSTART;TZID=Europe/Lisbon:20230716T080000
DTEND;TZID=Europe/Lisbon:20230721T170000
DTSTAMP:20260421T173319
CREATED:20230228T210917Z
LAST-MODIFIED:20230729T141355Z
UID:5188-1689494400-1689958800@spiem.pt
SUMMARY:PME-46
DESCRIPTION:46th Conferenceof the International Groupfor the Psychologyof Mathematics Education \n\n\n\nHaifa\, Israel16 a 21 de julho de 2023 \n\n\n\nTema da conferência: “Mathematics education for global sustainability”. \n\n\n\nhttps://pme46.edu.haifa.ac.il
URL:https://spiem.pt/evento/pme-46/
CATEGORIES:Eventos
ATTACH;FMTTYPE=image/png:https://spiem.pt/wp-content/uploads/2023/02/PME-46.png
END:VEVENT
BEGIN:VEVENT
DTSTART;TZID=Europe/Lisbon:20230710T070000
DTEND;TZID=Europe/Lisbon:20230714T160000
DTSTAMP:20260421T173319
CREATED:20230228T210428Z
LAST-MODIFIED:20230729T141404Z
UID:5184-1688972400-1689350400@spiem.pt
SUMMARY:CERME 13
DESCRIPTION:CERME (ERME Conferences) is organised by ERME whose chief aims are to promote communication\, cooperation and collaboration (the famous three Cs of CERME) in research in mathematics education in Europe.
URL:https://spiem.pt/evento/cerme-13/
CATEGORIES:Eventos
ATTACH;FMTTYPE=image/png:https://spiem.pt/wp-content/uploads/2022/08/cerme13.png
END:VEVENT
BEGIN:VEVENT
DTSTART;TZID=Europe/Lisbon:20230705T130000
DTEND;TZID=Europe/Lisbon:20230706T183000
DTSTAMP:20260421T173319
CREATED:20230527T163631Z
LAST-MODIFIED:20230527T164039Z
UID:5339-1688562000-1688668200@spiem.pt
SUMMARY:XXXIII SIEM
DESCRIPTION:Este ano\, o XXXIII SIEM decorrerá nos dias 5 e 6 de julho\, em Barcelos. O programa incluirá conferências plenárias\, conferências com discussão\, um painel e o Espaço GTI. Para mais informações consultar: \n\n\n\n\nSIEM2023 | PROFMAT2023 Barcelos • Associação de Professores de Matemática (apm.pt)
URL:https://spiem.pt/evento/xxxiii-siem/
LOCATION:Barcelos\, Barcelos\, Portugal
CATEGORIES:Eventos
ATTACH;FMTTYPE=image/png:https://spiem.pt/wp-content/uploads/2023/05/xxxiiisiem-thumb.png
ORGANIZER;CN="SIEM":MAILTO:siem2023@apm.pt
END:VEVENT
BEGIN:VEVENT
DTSTART;TZID=Europe/Lisbon:20230515T080000
DTEND;TZID=Europe/Lisbon:20230515T170000
DTSTAMP:20260421T173319
CREATED:20230228T210651Z
LAST-MODIFIED:20230228T210655Z
UID:5186-1684137600-1684170000@spiem.pt
SUMMARY:Chamada de artigos Revista Quadrante
DESCRIPTION:Revista QuadranteRevista de Investigação em Educação Matemática \n\n\n\nChamada de artigos: número temático 2023 \n\n\n\nAfetos na Educação Matemática \n\n\n\nEditores convidados: \n\n\n\n\nNélia Amado\, Universidade do Algarve\, Portugal\n\n\n\nPietro Di Martino\, Universidade de Pisa\, Itália\n\n\n\n\nhttps://quadrante.apm.pt/announcement \n\n\n\nData limite de submissão: 15 de maio\, 2023
URL:https://spiem.pt/evento/chamada-de-artigos-revista-quadrante/
ATTACH;FMTTYPE=image/png:https://spiem.pt/wp-content/uploads/2023/02/Q.png
END:VEVENT
BEGIN:VEVENT
DTSTART;TZID=Europe/Lisbon:20221130T170000
DTEND;TZID=Europe/Lisbon:20221130T190000
DTSTAMP:20260421T173319
CREATED:20220918T222543Z
LAST-MODIFIED:20220918T222912Z
UID:4545-1669827600-1669834800@spiem.pt
SUMMARY:Webinar Atlântico 3
DESCRIPTION:Webinar 3 \n\n\n\nResolução e Proposição de Problemas: na associação com as TICs\, pesquisas e práticas em Educação Matemática\n\n\n\nInvestigadora: Norma Suely Gomes Allevato\, Universidade Cruzeiro do Sul \n\n\n\nver programa completo aqui
URL:https://spiem.pt/evento/webinar-atlantico-3/
END:VEVENT
BEGIN:VEVENT
DTSTART;VALUE=DATE:20221119
DTEND;VALUE=DATE:20221121
DTSTAMP:20260421T173319
CREATED:20220519T100805Z
LAST-MODIFIED:20220620T224044Z
UID:2769-1668816000-1668988799@spiem.pt
SUMMARY:EIEM 2022
DESCRIPTION:EIEM 2022\nTema “Desenvolvimento Curricular” \nOrganização/Local: FCT NOVA (Caparica)
URL:https://spiem.pt/evento/eiem-2022/
LOCATION:FCT UNL\, Campus da Caparica\, Caparica\, Almada\, 2829-516 Caparica\, Portugal
CATEGORIES:Eventos SPIEM
ATTACH;FMTTYPE=image/svg+xml:https://spiem.pt/wp-content/uploads/2022/06/eiem-2022-thumbnail.svg
ORGANIZER;CN="SPIEM":MAILTO:eiem2021@spiem.pt
END:VEVENT
BEGIN:VEVENT
DTSTART;TZID=Europe/Lisbon:20221026T173000
DTEND;TZID=Europe/Lisbon:20221026T190000
DTSTAMP:20260421T173319
CREATED:20220918T222414Z
LAST-MODIFIED:20220919T223152Z
UID:4543-1666805400-1666810800@spiem.pt
SUMMARY:Webinar Atlântico 2
DESCRIPTION:Webinar 2 \n\n\n\nResolución de problemas y rasgos de alta capacidad matemática\n\n\n\nInvestigador: Ángel Gutiérrez\, Universidad de Valencia \n\n\n\nver programa completo aqui
URL:https://spiem.pt/evento/webinar-atlantico-2/
END:VEVENT
BEGIN:VEVENT
DTSTART;TZID=Europe/Lisbon:20220928T173000
DTEND;TZID=Europe/Lisbon:20220928T190000
DTSTAMP:20260421T173319
CREATED:20220918T222101Z
LAST-MODIFIED:20220918T222820Z
UID:4541-1664386200-1664391600@spiem.pt
SUMMARY:Webinar Atlântico 1
DESCRIPTION:Webinar 1 \n\n\n\nResolução de Problemas de Matemática com Tecnologia: da atividade dos alunos ao conhecimento didático do professor\n\n\n\nInvestigadora: Hélia Jacinto\, Instituto de Educação da Universidade de Lisboa \n\n\n\nver programa completo aqui
URL:https://spiem.pt/evento/webinar-atlantico-1/
END:VEVENT
BEGIN:VEVENT
DTSTART;VALUE=DATE:20220901
DTEND;VALUE=DATE:20220904
DTSTAMP:20260421T173319
CREATED:20220519T092030Z
LAST-MODIFIED:20220619T234948Z
UID:2756-1661990400-1662249599@spiem.pt
SUMMARY:XXV Simpósio SEIEM – Santiago de Compostela
DESCRIPTION:XXV Simpósio SEIEM – Santiago de Compostela\nA Sociedade Espanhola de Investigação em Educação Matemática (SEIEM) tem já uma longa e bem sucedida trajetória ligada à organização dos seus simpósios anuais no início de setembro\, tendo as reuniões mais recentes sido realizadas em Gijón (2018)\, Valladolid (2019) e Valência (2021). \nDe 1 a 3 de setembro de 2022\, a Universidade de Santiago de Compostela acolhe o XXV Simpósio da SEIEM esperando ser o ponto de encontro de investigadores e professores na área da Educação Matemática. \nSeminários de investigação (títulos provisórios) \n\nO papel da tecnologia no ensino e aprendizagem da matemática.\nA concepção dos currículos matemáticos.\n\n\n\n\n\nPDF com mais info
URL:https://spiem.pt/evento/xxv-simposio-seiem-santiago-de-compostela/
LOCATION:Facultade de Enfermaría e Facultade de CC. Educación Campus norte\, Avda. Xoan XXIII\, Santiago de Compostela\, Galiza\, 15782\, Espanha
CATEGORIES:Outros eventos
ATTACH;FMTTYPE=image/svg+xml:https://spiem.pt/wp-content/uploads/2022/06/seiem-2022-thumbnail.svg
END:VEVENT
BEGIN:VEVENT
DTSTART;VALUE=DATE:20210727
DTEND;VALUE=DATE:20210729
DTSTAMP:20260421T173319
CREATED:20210505T180945Z
LAST-MODIFIED:20220614T221100Z
UID:2706-1627344000-1627516799@spiem.pt
SUMMARY:Escola de Verão 2021 – SPIEM & SEIEM
DESCRIPTION:A SPIEM\, em conjunto com a sua congénere espanhola\, SEIEM\, vai realizar\, a 27 e 28 de julho próximo\, a Escola de Verão 2021\, destinada a jovens investigadores em Educação Matemática. \n\n\n\nSerá um evento online e gratuito.  \n\n\n\nOs interessados devem apresentar a sua candidatura\, até dia 14 de maio\, enviando a ficha de candidatura preenchida para info@spiem.pt \n\nPrograma\nFormulário de candidatura
URL:https://spiem.pt/evento/escola-de-verao-2021-spiem-seiem/
CATEGORIES:Eventos SPIEM
ORGANIZER;CN="SPIEM":MAILTO:eiem2021@spiem.pt
END:VEVENT
BEGIN:VEVENT
DTSTART;TZID=Europe/Lisbon:20200416T000000
DTEND;TZID=Europe/Lisbon:20200416T000000
DTSTAMP:20260421T173319
CREATED:20200416T111429Z
LAST-MODIFIED:20220614T221108Z
UID:1726-1586995200-1586995200@spiem.pt
SUMMARY:IV Congreso Iberoamericano sobre Conocimiento Especializado del Profesor de Matemáticas
DESCRIPTION:Desde hace varios años\, el grupo SIDM (Seminario de Investigación en Didáctica de la Matemática) de la Universidad de Huelva (España) desarrolla el modelo de Conocimiento Especializado del Profesor de Matemáticas MTSK (Mathematics Teacher’s Specialised Knowledge). En estos años el modelo ha adquirido solidez a partir de la caracterización de dominios\, subdominios\, categorías e indicadores\, de la obtención de evidencias de dicho conocimiento en profesores de todas las etapas educativas y en diversos temas matemáticos\, y de la aplicación de estrategias metodológicas que se han mostrado útiles para acceder\, describir y comprender el conocimiento del profesor. \nLa crítica interna del propio grupo y la confrontación constructiva con otros investigadores y perspectivas plantea retos o desafíos que pueden ayudar a mostrar las posibilidades y limitaciones del modelo. \nEn este sentido\, el Seminario de Investigación en Didáctica de la Matemática de la Universidad de Huelva\, inserto en el Grupo de Investigación DESYM (HUM168)\, y en el Centro de Investigación COIDESO\, convoca este congreso sobre la base de la Red Iberoamericana MTSK\, grupo de investigadores iberoamericanos con intereses de investigación en esta temática. \nCALENDARIO \n\n30 de abril de 2019 (15 hrs España peninsular): plazo de envío de comunicaciones a carrillo@uhu.es y preinscripción (gratuita) al congreso\n31 de mayo de 2019: aviso de aceptación\, aceptación con cambios o rechazo de la comunicación\n20 de junio de 2019 (15 hrs España peninsular): plazo de recepción de las comunicaciones modificadas y de la carta de explicación de cambios e inscripción (gratuita) al congreso\n10 de julio de 2019: comunicación de la aceptación o rechazo definitivo\n\n  \nComité organizador\nJosé Carrillo\, Luis C. Contreras\, Nuria Climent\, Miguel Á. Montes\, Myriam Codes \nComité científico\nJosé Carrillo\, Luis C. Contreras\, Nuria Climent\, Miguel Á. Montes\, Myriam Codes\, Mª Cinta Muñoz\, Pablo Flores\, José Mª Marbán\, Ivonne Sandoval\, Diana Zakaryan\, Marcos Zapata\, Diana Vasco\, Miguel Ribeiro
URL:https://spiem.pt/evento/iv-congreso-iberoamericano-sobre-conocimiento-especializado-del-profesor-de-matematicas/
CATEGORIES:Outros eventos
END:VEVENT
BEGIN:VEVENT
DTSTART;VALUE=DATE:20200401
DTEND;VALUE=DATE:20200405
DTSTAMP:20260421T173319
CREATED:20190421T222124Z
LAST-MODIFIED:20220619T165721Z
UID:1817-1585699200-1586044799@spiem.pt
SUMMARY:NCTM Centennial Annual Meeting & Exposition (EUA)
DESCRIPTION:NCTM Centennial Annual Meeting & Exposition\nNCTM turns 100 in 2020. Join thousands of math education professionals as we celebrate our 100th anniversary. In addition to compelling sessions\, networking opportunities\, and the content you’ve come to value\, there will be special events and surprises to mark the occasions. \nStrands\n\nImplement the Effective Teaching Practices\nExperience the Depth and Excitement of Mathematics\nLook Back and Move Forward: A Centennial View\nCreate Positive Change\nBuild Student Agency\, Foster Student Identity\, and Promote Social Change\n\nCall for Proposals\nProposals for NCTM’s Centennial Annual Meeting & Exposition in Chicago will be accepted from April 4 through July 1\, 2019. \nCall for Proposals
URL:https://spiem.pt/evento/nctm/
CATEGORIES:Outros eventos
ORGANIZER;CN="National Council of Teachers of Mathematics":MAILTO:nctm@nctm.org
END:VEVENT
END:VCALENDAR