BEGIN:VCALENDAR
VERSION:2.0
PRODID:-//SPIEM - ECPv6.15.20//NONSGML v1.0//EN
CALSCALE:GREGORIAN
METHOD:PUBLISH
X-WR-CALNAME:SPIEM
X-ORIGINAL-URL:https://spiem.pt
X-WR-CALDESC:Eventos para SPIEM
REFRESH-INTERVAL;VALUE=DURATION:PT1H
X-Robots-Tag:noindex
X-PUBLISHED-TTL:PT1H
BEGIN:VTIMEZONE
TZID:Europe/Lisbon
BEGIN:DAYLIGHT
TZOFFSETFROM:+0000
TZOFFSETTO:+0100
TZNAME:WEST
DTSTART:20240331T010000
END:DAYLIGHT
BEGIN:STANDARD
TZOFFSETFROM:+0100
TZOFFSETTO:+0000
TZNAME:WET
DTSTART:20241027T010000
END:STANDARD
BEGIN:DAYLIGHT
TZOFFSETFROM:+0000
TZOFFSETTO:+0100
TZNAME:WEST
DTSTART:20250330T010000
END:DAYLIGHT
BEGIN:STANDARD
TZOFFSETFROM:+0100
TZOFFSETTO:+0000
TZNAME:WET
DTSTART:20251026T010000
END:STANDARD
BEGIN:DAYLIGHT
TZOFFSETFROM:+0000
TZOFFSETTO:+0100
TZNAME:WEST
DTSTART:20260329T010000
END:DAYLIGHT
BEGIN:STANDARD
TZOFFSETFROM:+0100
TZOFFSETTO:+0000
TZNAME:WET
DTSTART:20261025T010000
END:STANDARD
BEGIN:DAYLIGHT
TZOFFSETFROM:+0000
TZOFFSETTO:+0100
TZNAME:WEST
DTSTART:20270328T010000
END:DAYLIGHT
BEGIN:STANDARD
TZOFFSETFROM:+0100
TZOFFSETTO:+0000
TZNAME:WET
DTSTART:20271031T010000
END:STANDARD
END:VTIMEZONE
BEGIN:VEVENT
DTSTART;TZID=Europe/Lisbon:20250521T173000
DTEND;TZID=Europe/Lisbon:20250521T190000
DTSTAMP:20260422T224934
CREATED:20250507T081245Z
LAST-MODIFIED:20250507T081250Z
UID:7349-1747848600-1747854000@spiem.pt
SUMMARY:Webinar Atlântico 1 | 2025
DESCRIPTION:Webinar 1 \n\n\n\nEstudar o passado e compreender o presente em Educação Matemática\n\n\n\nQuarta-feira\, 21 de maio de 2025 \n\n\n\nInvestigador: José Manuel MatosModeração: Edvonete Souza de Alencar (Brasil) \n\n\n\nHorário:10:30 | México (CMDX)13:30 | Brasil (Brasília)17:30 | Portugal continental18:30 | Espanha \n\n\n\n\nMais informação
URL:https://spiem.pt/evento/webinar-atlantico-1-2025/
LOCATION:Bragança
CATEGORIES:Eventos,Eventos SPIEM
END:VEVENT
BEGIN:VEVENT
DTSTART;TZID=Europe/Lisbon:20250625T173000
DTEND;TZID=Europe/Lisbon:20250625T183000
DTSTAMP:20260422T224934
CREATED:20250507T081455Z
LAST-MODIFIED:20250507T081501Z
UID:7351-1750872600-1750876200@spiem.pt
SUMMARY:Webinar Atlântico 2 | 2025
DESCRIPTION:La historia de la educación matemática como recurso en la formación de profesorado\n\n\n\nQuarta-feira\, 25 de junho de 2025 \n\n\n\nInvestigador: Antonio OllerModeração: António Domingos (Portugal) \n\n\n\nHorário:10:30 | México (CMDX)13:30 | Brasil (Brasília)17:30 | Portugal continental18:30 | Espanha \n\n\n\n\nMais informação
URL:https://spiem.pt/evento/webinar-atlantico-2-2025/
LOCATION:Bragança
CATEGORIES:Eventos,Eventos SPIEM
END:VEVENT
BEGIN:VEVENT
DTSTART;TZID=Europe/Lisbon:20250710T000000
DTEND;TZID=Europe/Lisbon:20250711T235959
DTSTAMP:20260422T224934
CREATED:20250225T090311Z
LAST-MODIFIED:20250414T204759Z
UID:7221-1752105600-1752278399@spiem.pt
SUMMARY:Escola de Verão 2025
DESCRIPTION:A Escola de Verão para Jovens Investigadores é uma iniciativa conjunta da Sociedade Espanhola de Investigação em Educação Matemática (SEIEM) e da Sociedade Portuguesa de Investigação em Educação Matemática (SPIEM)\, com organização alternada entre Espanha e Portugal. Esta iniciativa tem como principal objetivo contribuir para a formação dos jovens investigadores em educação matemática\, nas primeiras etapas do seu desenvolvimento profissional. \n\n\n\nA Escola de Verão 2025 decorrerá em Espanha. \n\n\n\n\nData da Escola de Verão: 10 e 11 de julho de 2025\n\n\n\nLocal: Facultat de Ciències de l’Educació. Universitat Autònoma de Barcelona – Campus de Bellaterra\, Cerdanyola del Vallès\, España.\n\n\n\nOrganizacão: Grup d’Investigació en Pràctica Educativa i Activitat Matemàtica (GIPEAM) – Universitat Autònoma de Barcelona.\n\n\n\n\nO tema da Escola de Verão de 2025 será “O processo desde a investigação até à publicação”.  \n\n\n\nInscrição\n\n\n\nA inscrição será efetuada através de um formulário online.O link para inscrição é a seguinte: https://forms.office.com/e/jtQxiS22rn \n\n\n\n• Data limite de inscrição: 15 de maio de 2025• Confirmação da admissão: 25 de maio de 2025 • Prazo limite para pagamento: 10 de junho \n\n\n\nTaxa de inscrição: 80 euros. Inclui cafés\, jantar e atividade cultural. Não inclui almoço\, transporte e alojamento. \n\n\n\nA SPIEM pode dar apoio para a inscrição no evento aos jovens investigadores que participem na Escola de Verão. Os jovens investigadores que o pretendam devem enviar email para info@spiem.pt a indicar a sua candidatura à participação na Escola de Verão para lhe serem apresentadas as condições desse apoio. \n\n\n\nPara mais informações sobre a Escola de Verão 2025 consultar o anúncio. Clique aqui para descarregar o ficheiro.
URL:https://spiem.pt/evento/escola-de-verao-2025/
LOCATION:Facultat de Ciències de l’Educació. Universitat Autònoma de Barcelona\, Campus de Bellaterra\, Cerdanyola del Vallès\, España\, Cerdanyola del Vallès\, Spain
CATEGORIES:Eventos
ATTACH;FMTTYPE=image/png:https://spiem.pt/wp-content/uploads/2025/02/escola-de-verao-2025-square.png
END:VEVENT
BEGIN:VEVENT
DTSTART;TZID=Europe/Lisbon:20250910T000000
DTEND;TZID=Europe/Lisbon:20250912T235959
DTSTAMP:20260422T224934
CREATED:20250225T091103Z
LAST-MODIFIED:20250305T084847Z
UID:7225-1757462400-1757721599@spiem.pt
SUMMARY:XXVIII Simposio SEIEM
DESCRIPTION:Datas:10 a 12 de setembro de 2025 \n\n\n\nData limite para submissões: 15 de março de 2025 \n\n\n\nLocal: Facultad de Ciencias de la Educación y del Deporte del Campus de Melilla.Universidad de Granada
URL:https://spiem.pt/evento/xxviii-simposio-seiem-2/
LOCATION:Facultad de Ciencias de la Educación y del Deporte del Campus de Melilla\, Universidad de Granada - Campus de Melilla\, Calle Santander\, 1\, Melilla\, Granada\, 52071\, Spain
CATEGORIES:Eventos
ATTACH;FMTTYPE=image/png:https://spiem.pt/wp-content/uploads/2025/02/SEIEM-Simposio-2025.png
END:VEVENT
BEGIN:VEVENT
DTSTART;TZID=Europe/Lisbon:20250924T173000
DTEND;TZID=Europe/Lisbon:20250924T190000
DTSTAMP:20260422T224934
CREATED:20250507T081630Z
LAST-MODIFIED:20250907T130430Z
UID:7356-1758735000-1758740400@spiem.pt
SUMMARY:Webinar Atlântico 3 | 2025
DESCRIPTION:A Matemática do Ensino: uma discussão histórico-epistemológica\n\n\n\nQuarta-feira\, 24 de setembro de 2025 \n\n\n\nInvestigador: Wagner ValenteModeração: Maribel Moreno Ochoa (México) \n\n\n\nHorário:11:30 | México (CMDX)14:30 | Brasil (Brasília)17:30 | Portugal continental18:30 | Espanha \n\n\n\n\nMais informação
URL:https://spiem.pt/evento/webinar-atlantico-3-2025/
LOCATION:Bragança
CATEGORIES:Eventos,Eventos SPIEM
ATTACH;FMTTYPE=image/png:https://spiem.pt/wp-content/uploads/2025/09/banner-webinares-atlanticos_2025.png
END:VEVENT
BEGIN:VEVENT
DTSTART;TZID=Europe/Lisbon:20251022T173000
DTEND;TZID=Europe/Lisbon:20251022T183000
DTSTAMP:20260422T224934
CREATED:20250507T081827Z
LAST-MODIFIED:20250907T130356Z
UID:7358-1761154200-1761157800@spiem.pt
SUMMARY:Webinar Atlântico 4 | 2025
DESCRIPTION:El arte de razonar con figuras: Una mirada desde Euclides hacia el aula mexicana\n\n\n\nQuarta-feira\, 22 de outubro de 2025 \n\n\n\nInvestigador: Juan de Dios Viramontes MirandaModeração: Berta Barquero (Espanha) \n\n\n\nHorário:11:30 | México (CMDX)14:30 | Brasil (Brasília)17:30 | Portugal continental18:30 | Espanha \n\n\n\n\nMais informação
URL:https://spiem.pt/evento/webinar-atlantico-4-2025/
LOCATION:Bragança
CATEGORIES:Eventos,Eventos SPIEM
ATTACH;FMTTYPE=image/png:https://spiem.pt/wp-content/uploads/2025/09/banner-webinares-atlanticos_2025.png
END:VEVENT
BEGIN:VEVENT
DTSTART;TZID=Europe/Lisbon:20251121T000000
DTEND;TZID=Europe/Lisbon:20251122T235959
DTSTAMP:20260422T224934
CREATED:20250417T204849Z
LAST-MODIFIED:20251115T143559Z
UID:7312-1763683200-1763855999@spiem.pt
SUMMARY:EIEM 2025
DESCRIPTION:EIEM 2025\nEducação Matemática na Era Digital\nO Encontro de Investigação em Educação Matemática (EIEM) 2025 realiza-se nos dias 21 e 22 de novembro de 2025\, no Instituto de Educação da Universidade de Lisboa\, tendo como tema Educação Matemática na Era Digital. \nO EIEM 2025 destina-se a todos os investigadores\, formadores ou professores que se interessem pela investigação em Educação Matemática. Este encontro tem como propósito principal refletir sobre trabalhos de investigação\, concluídos ou em curso\, relativos a múltiplos aspetos associados à Educação Matemática na Era Digital\, partilhando resultados de investigação e perspetivando futuras investigações sobre o tema.
URL:https://spiem.pt/evento/eiem-2025/
LOCATION:Instituto de Educação da Universidade de Lisboa\, Alameda da Universidade\, Lisboa\, Lisboa\, 1649-013\, Portugal
CATEGORIES:Eventos SPIEM
ATTACH;FMTTYPE=image/png:https://spiem.pt/wp-content/uploads/2025/04/eiem_2025.png
ORGANIZER;CN="SPIEM":MAILTO:eiem2021@spiem.pt
END:VEVENT
BEGIN:VEVENT
DTSTART;TZID=Europe/Lisbon:20260327T133000
DTEND;TZID=Europe/Lisbon:20260328T180000
DTSTAMP:20260422T224934
CREATED:20260210T190859Z
LAST-MODIFIED:20260215T102827Z
UID:7917-1774618200-1774720800@spiem.pt
SUMMARY:EIEM 2026
DESCRIPTION:EIEM 2026\nEnsino e aprendizagem da Matemática em contextos diversos\nO Encontro de Investigação em Educação Matemática (EIEM) 2026 realiza-se nos dias 27 e 28 de março de 2026\, no Escola Superior de Educação do Instituto Politécnico de Bragança\, tendo como tema Ensino e aprendizagem da Matemática em contextos diversos. \nO EIEM 2026 destina-se a todos os investigadores\, formadores ou professores que se interessem pela investigação em Educação Matemática. Este encontro tem como propósito principal refletir sobre trabalhos de investigação\, concluídos ou em curso\, relativos a múltiplos aspetos associados ao Ensino e aprendizagem da Matemática em contextos diversos\, dentro ou fora da sala de aula\, em ambientes físicos ou digitais\, e em contexto matemáticos\, interdisciplinares ou ligados à realidade.
URL:https://spiem.pt/evento/eiem-2026/
LOCATION:Escola Superior de Educação do Instituto Politécnico de Bragança\, Alameda de Santa Apolónia\, Bragança\, Bragança\, 5301-856\, Portugal
CATEGORIES:Eventos SPIEM
ATTACH;FMTTYPE=image/png:https://spiem.pt/wp-content/uploads/2025/11/eiem_2026_banner.png
ORGANIZER;CN="SPIEM %E2%80%93 Sociedade Portuguesa de Investiga%C3%A7%C3%A3o em Educa%C3%A7%C3%A3o Matem%C3%A1tica":MAILTO:info@spiem.pt
END:VEVENT
BEGIN:VEVENT
DTSTART;TZID=Europe/Lisbon:20260330T080000
DTEND;TZID=Europe/Lisbon:20260401T170000
DTSTAMP:20260422T224934
CREATED:20251216T113411Z
LAST-MODIFIED:20251216T113412Z
UID:7718-1774857600-1775062800@spiem.pt
SUMMARY:ATEE Winter Conference 2026
DESCRIPTION:Science and mathematics education in the digital era \n\n\n\nUniversidade do Minho\, Braga\, Portugal \n\n\n\n30 de março a 1 de abril de 2026 \n\n\n\nLimite para submissão de trabalhos: 15 de janeiro de 2026  \n\n\n\nATEE Winter Conference 2026
URL:https://spiem.pt/evento/atee-winter-conference-2026/
LOCATION:Bragança
ATTACH;FMTTYPE=image/jpeg:https://spiem.pt/wp-content/uploads/2025/12/atee-universidade-do-minho.jpg
END:VEVENT
END:VCALENDAR