BEGIN:VCALENDAR
VERSION:2.0
PRODID:-//SPIEM - ECPv6.15.20//NONSGML v1.0//EN
CALSCALE:GREGORIAN
METHOD:PUBLISH
X-WR-CALNAME:SPIEM
X-ORIGINAL-URL:https://spiem.pt
X-WR-CALDESC:Eventos para SPIEM
REFRESH-INTERVAL;VALUE=DURATION:PT1H
X-Robots-Tag:noindex
X-PUBLISHED-TTL:PT1H
BEGIN:VTIMEZONE
TZID:Europe/Lisbon
BEGIN:DAYLIGHT
TZOFFSETFROM:+0000
TZOFFSETTO:+0100
TZNAME:WEST
DTSTART:20240331T010000
END:DAYLIGHT
BEGIN:STANDARD
TZOFFSETFROM:+0100
TZOFFSETTO:+0000
TZNAME:WET
DTSTART:20241027T010000
END:STANDARD
BEGIN:DAYLIGHT
TZOFFSETFROM:+0000
TZOFFSETTO:+0100
TZNAME:WEST
DTSTART:20250330T010000
END:DAYLIGHT
BEGIN:STANDARD
TZOFFSETFROM:+0100
TZOFFSETTO:+0000
TZNAME:WET
DTSTART:20251026T010000
END:STANDARD
BEGIN:DAYLIGHT
TZOFFSETFROM:+0000
TZOFFSETTO:+0100
TZNAME:WEST
DTSTART:20260329T010000
END:DAYLIGHT
BEGIN:STANDARD
TZOFFSETFROM:+0100
TZOFFSETTO:+0000
TZNAME:WET
DTSTART:20261025T010000
END:STANDARD
END:VTIMEZONE
BEGIN:VEVENT
DTSTART;TZID=Europe/Lisbon:20251121T000000
DTEND;TZID=Europe/Lisbon:20251122T235959
DTSTAMP:20260421T234534
CREATED:20250417T204849Z
LAST-MODIFIED:20251115T143559Z
UID:7312-1763683200-1763855999@spiem.pt
SUMMARY:EIEM 2025
DESCRIPTION:EIEM 2025\nEducação Matemática na Era Digital\nO Encontro de Investigação em Educação Matemática (EIEM) 2025 realiza-se nos dias 21 e 22 de novembro de 2025\, no Instituto de Educação da Universidade de Lisboa\, tendo como tema Educação Matemática na Era Digital. \nO EIEM 2025 destina-se a todos os investigadores\, formadores ou professores que se interessem pela investigação em Educação Matemática. Este encontro tem como propósito principal refletir sobre trabalhos de investigação\, concluídos ou em curso\, relativos a múltiplos aspetos associados à Educação Matemática na Era Digital\, partilhando resultados de investigação e perspetivando futuras investigações sobre o tema.
URL:https://spiem.pt/evento/eiem-2025/
LOCATION:Instituto de Educação da Universidade de Lisboa\, Alameda da Universidade\, Lisboa\, Lisboa\, 1649-013\, Portugal
CATEGORIES:Eventos SPIEM
ATTACH;FMTTYPE=image/png:https://spiem.pt/wp-content/uploads/2025/04/eiem_2025.png
ORGANIZER;CN="SPIEM":MAILTO:eiem2021@spiem.pt
END:VEVENT
END:VCALENDAR