BEGIN:VCALENDAR
VERSION:2.0
PRODID:-//SPIEM - ECPv6.15.20//NONSGML v1.0//EN
CALSCALE:GREGORIAN
METHOD:PUBLISH
X-WR-CALNAME:SPIEM
X-ORIGINAL-URL:https://spiem.pt
X-WR-CALDESC:Eventos para SPIEM
REFRESH-INTERVAL;VALUE=DURATION:PT1H
X-Robots-Tag:noindex
X-PUBLISHED-TTL:PT1H
BEGIN:VTIMEZONE
TZID:Europe/Lisbon
BEGIN:DAYLIGHT
TZOFFSETFROM:+0000
TZOFFSETTO:+0100
TZNAME:WEST
DTSTART:20240331T010000
END:DAYLIGHT
BEGIN:STANDARD
TZOFFSETFROM:+0100
TZOFFSETTO:+0000
TZNAME:WET
DTSTART:20241027T010000
END:STANDARD
BEGIN:DAYLIGHT
TZOFFSETFROM:+0000
TZOFFSETTO:+0100
TZNAME:WEST
DTSTART:20250330T010000
END:DAYLIGHT
BEGIN:STANDARD
TZOFFSETFROM:+0100
TZOFFSETTO:+0000
TZNAME:WET
DTSTART:20251026T010000
END:STANDARD
BEGIN:DAYLIGHT
TZOFFSETFROM:+0000
TZOFFSETTO:+0100
TZNAME:WEST
DTSTART:20260329T010000
END:DAYLIGHT
BEGIN:STANDARD
TZOFFSETFROM:+0100
TZOFFSETTO:+0000
TZNAME:WET
DTSTART:20261025T010000
END:STANDARD
END:VTIMEZONE
BEGIN:VEVENT
DTSTART;TZID=Europe/Lisbon:20250710T000000
DTEND;TZID=Europe/Lisbon:20250711T235959
DTSTAMP:20260422T055007
CREATED:20250225T090311Z
LAST-MODIFIED:20250414T204759Z
UID:7221-1752105600-1752278399@spiem.pt
SUMMARY:Escola de Verão 2025
DESCRIPTION:A Escola de Verão para Jovens Investigadores é uma iniciativa conjunta da Sociedade Espanhola de Investigação em Educação Matemática (SEIEM) e da Sociedade Portuguesa de Investigação em Educação Matemática (SPIEM)\, com organização alternada entre Espanha e Portugal. Esta iniciativa tem como principal objetivo contribuir para a formação dos jovens investigadores em educação matemática\, nas primeiras etapas do seu desenvolvimento profissional. \n\n\n\nA Escola de Verão 2025 decorrerá em Espanha. \n\n\n\n\nData da Escola de Verão: 10 e 11 de julho de 2025\n\n\n\nLocal: Facultat de Ciències de l’Educació. Universitat Autònoma de Barcelona – Campus de Bellaterra\, Cerdanyola del Vallès\, España.\n\n\n\nOrganizacão: Grup d’Investigació en Pràctica Educativa i Activitat Matemàtica (GIPEAM) – Universitat Autònoma de Barcelona.\n\n\n\n\nO tema da Escola de Verão de 2025 será “O processo desde a investigação até à publicação”.  \n\n\n\nInscrição\n\n\n\nA inscrição será efetuada através de um formulário online.O link para inscrição é a seguinte: https://forms.office.com/e/jtQxiS22rn \n\n\n\n• Data limite de inscrição: 15 de maio de 2025• Confirmação da admissão: 25 de maio de 2025 • Prazo limite para pagamento: 10 de junho \n\n\n\nTaxa de inscrição: 80 euros. Inclui cafés\, jantar e atividade cultural. Não inclui almoço\, transporte e alojamento. \n\n\n\nA SPIEM pode dar apoio para a inscrição no evento aos jovens investigadores que participem na Escola de Verão. Os jovens investigadores que o pretendam devem enviar email para info@spiem.pt a indicar a sua candidatura à participação na Escola de Verão para lhe serem apresentadas as condições desse apoio. \n\n\n\nPara mais informações sobre a Escola de Verão 2025 consultar o anúncio. Clique aqui para descarregar o ficheiro.
URL:https://spiem.pt/evento/escola-de-verao-2025/
LOCATION:Facultat de Ciències de l’Educació. Universitat Autònoma de Barcelona\, Campus de Bellaterra\, Cerdanyola del Vallès\, España\, Cerdanyola del Vallès\, Spain
CATEGORIES:Eventos
ATTACH;FMTTYPE=image/png:https://spiem.pt/wp-content/uploads/2025/02/escola-de-verao-2025-square.png
END:VEVENT
END:VCALENDAR