BEGIN:VCALENDAR
VERSION:2.0
PRODID:-//SPIEM - ECPv6.15.20//NONSGML v1.0//EN
CALSCALE:GREGORIAN
METHOD:PUBLISH
X-ORIGINAL-URL:https://spiem.pt
X-WR-CALDESC:Eventos para SPIEM
REFRESH-INTERVAL;VALUE=DURATION:PT1H
X-Robots-Tag:noindex
X-PUBLISHED-TTL:PT1H
BEGIN:VTIMEZONE
TZID:Europe/Lisbon
BEGIN:DAYLIGHT
TZOFFSETFROM:+0000
TZOFFSETTO:+0100
TZNAME:WEST
DTSTART:20230326T010000
END:DAYLIGHT
BEGIN:STANDARD
TZOFFSETFROM:+0100
TZOFFSETTO:+0000
TZNAME:WET
DTSTART:20231029T010000
END:STANDARD
BEGIN:DAYLIGHT
TZOFFSETFROM:+0000
TZOFFSETTO:+0100
TZNAME:WEST
DTSTART:20240331T010000
END:DAYLIGHT
BEGIN:STANDARD
TZOFFSETFROM:+0100
TZOFFSETTO:+0000
TZNAME:WET
DTSTART:20241027T010000
END:STANDARD
BEGIN:DAYLIGHT
TZOFFSETFROM:+0000
TZOFFSETTO:+0100
TZNAME:WEST
DTSTART:20250330T010000
END:DAYLIGHT
BEGIN:STANDARD
TZOFFSETFROM:+0100
TZOFFSETTO:+0000
TZNAME:WET
DTSTART:20251026T010000
END:STANDARD
END:VTIMEZONE
BEGIN:VEVENT
DTSTART;TZID=Europe/Lisbon:20240717T080000
DTEND;TZID=Europe/Lisbon:20240721T170000
DTSTAMP:20260422T215703
CREATED:20240103T092816Z
LAST-MODIFIED:20240103T093552Z
UID:6283-1721203200-1721581200@spiem.pt
SUMMARY:Psychology of Mathematics Education Conference (PME 47)
DESCRIPTION:The theme of the conference is “Rethinking mathematics education together”.\n\n\n\n\n\n\n\n\n\nPME 47 Conference\n\n\n\n\n\nThis theme has been chosen to emphasize mathematics education research as a shifting field of knowledge which is developed as a collective body of research. The theme also has relevance both to the local Pacific/Oceania context as well as broader international contexts with ongoing debates related to mathematics education and research\, shifts in both curriculum and pedagogical practices\, and a focus on developing equitable educational systems. \n\n\n\n\n\n\n\n\n\nCONFERENCE ORGANISERS\n\n\n\n\n\n\n\n\n\nVENUE
URL:https://spiem.pt/evento/psychology-of-mathematics-education-conference-pme-47/
LOCATION:Massey Auckland campus in Albany\, East Precinct\, Quadrangle Building A\, level 2\, Estates Service Desk (Gate 1)\, Albany\, Albany Expressway\, 0632\, New Zealand
CATEGORIES:Eventos
ATTACH;FMTTYPE=image/png:https://spiem.pt/wp-content/uploads/2024/01/conferencePME2024.png
END:VEVENT
END:VCALENDAR