BEGIN:VCALENDAR
VERSION:2.0
PRODID:-//SPIEM - ECPv6.15.20//NONSGML v1.0//EN
CALSCALE:GREGORIAN
METHOD:PUBLISH
X-WR-CALNAME:SPIEM
X-ORIGINAL-URL:https://spiem.pt
X-WR-CALDESC:Eventos para SPIEM
REFRESH-INTERVAL;VALUE=DURATION:PT1H
X-Robots-Tag:noindex
X-PUBLISHED-TTL:PT1H
BEGIN:VTIMEZONE
TZID:Europe/Lisbon
BEGIN:DAYLIGHT
TZOFFSETFROM:+0000
TZOFFSETTO:+0100
TZNAME:WEST
DTSTART:20230326T010000
END:DAYLIGHT
BEGIN:STANDARD
TZOFFSETFROM:+0100
TZOFFSETTO:+0000
TZNAME:WET
DTSTART:20231029T010000
END:STANDARD
BEGIN:DAYLIGHT
TZOFFSETFROM:+0000
TZOFFSETTO:+0100
TZNAME:WEST
DTSTART:20240331T010000
END:DAYLIGHT
BEGIN:STANDARD
TZOFFSETFROM:+0100
TZOFFSETTO:+0000
TZNAME:WET
DTSTART:20241027T010000
END:STANDARD
BEGIN:DAYLIGHT
TZOFFSETFROM:+0000
TZOFFSETTO:+0100
TZNAME:WEST
DTSTART:20250330T010000
END:DAYLIGHT
BEGIN:STANDARD
TZOFFSETFROM:+0100
TZOFFSETTO:+0000
TZNAME:WET
DTSTART:20251026T010000
END:STANDARD
END:VTIMEZONE
BEGIN:VEVENT
DTSTART;TZID=Europe/Lisbon:20240707T080000
DTEND;TZID=Europe/Lisbon:20240714T170000
DTSTAMP:20260422T215536
CREATED:20230527T170456Z
LAST-MODIFIED:20230527T170657Z
UID:5357-1720339200-1720976400@spiem.pt
SUMMARY:ICME-15
DESCRIPTION:O 15th International Congress on Mathematics Education (ICME-15) decorrerá entre 7 e 14 de julho de 2024 em Sydney\, Austrália. \n\n\n\n\n\n\n\nOs Congressos do ICME são realizados sob os auspícios da Commission on Mathematical Instruction (ICMI). Dedicada ao desenvolvimento da educação matemática a todos os níveis\, a ICMI é uma comissão da International Mathematical Union (IMU)\, uma organização científica internacional não governamental e sem fins lucrativos cujo objectivo é promover a cooperação internacional no domínio da matemática.
URL:https://spiem.pt/evento/icme-15/
LOCATION:International Convention Centre\, 14 Darling Drive\, Sydney\, Gadigal Country\, NSW 2000\, Australia
CATEGORIES:Eventos
ATTACH;FMTTYPE=image/png:https://spiem.pt/wp-content/uploads/2023/05/icme15-thumb.png
END:VEVENT
END:VCALENDAR